BEGIN:VCALENDAR
VERSION:2.0
PRODID:-//Ennery 95 - ECPv6.15.11//NONSGML v1.0//EN
CALSCALE:GREGORIAN
METHOD:PUBLISH
X-ORIGINAL-URL:https://ennery.fr
X-WR-CALDESC:Évènements pour Ennery 95
REFRESH-INTERVAL;VALUE=DURATION:PT1H
X-Robots-Tag:noindex
X-PUBLISHED-TTL:PT1H
BEGIN:VTIMEZONE
TZID:Europe/Paris
BEGIN:DAYLIGHT
TZOFFSETFROM:+0100
TZOFFSETTO:+0200
TZNAME:CEST
DTSTART:20230326T010000
END:DAYLIGHT
BEGIN:STANDARD
TZOFFSETFROM:+0200
TZOFFSETTO:+0100
TZNAME:CET
DTSTART:20231029T010000
END:STANDARD
BEGIN:DAYLIGHT
TZOFFSETFROM:+0100
TZOFFSETTO:+0200
TZNAME:CEST
DTSTART:20240331T010000
END:DAYLIGHT
BEGIN:STANDARD
TZOFFSETFROM:+0200
TZOFFSETTO:+0100
TZNAME:CET
DTSTART:20241027T010000
END:STANDARD
BEGIN:DAYLIGHT
TZOFFSETFROM:+0100
TZOFFSETTO:+0200
TZNAME:CEST
DTSTART:20250330T010000
END:DAYLIGHT
BEGIN:STANDARD
TZOFFSETFROM:+0200
TZOFFSETTO:+0100
TZNAME:CET
DTSTART:20251026T010000
END:STANDARD
END:VTIMEZONE
BEGIN:VEVENT
DTSTART;TZID=Europe/Paris:20240525T100000
DTEND;TZID=Europe/Paris:20240525T120000
DTSTAMP:20260425T174753
CREATED:20240329T100927Z
LAST-MODIFIED:20240429T221841Z
UID:14771-1716631200-1716638400@ennery.fr
SUMMARY:Carnaval
DESCRIPTION:Carnaval de l’AOJE\n			\n				\n				\n				\n				\n				\n			\n				\n				\n				\n				\n				Carnaval de l’AOJE le Samedi 25 MAI 2024 dans les rue d’Ennery avec la fanfare Ch’ti (Les MabuseBand) \nCette année\, le carnaval fête ses 10 ans 🎂 !  \nDépart de l’AOJE à 10h pour une arrivée vers 12h à l’école d’Ennery où nous attend un verre de l’amitié !
URL:https://ennery.fr/event/carnaval/
LOCATION:AOJE\, Rue d'une ruelle à l'autre\, Ennery\, 95300
CATEGORIES:events
ATTACH;FMTTYPE=image/png:https://ennery.fr/wp-content/uploads/2024/04/202405-carnaval.png
END:VEVENT
END:VCALENDAR