BEGIN:VCALENDAR
VERSION:2.0
PRODID:-//Ennery 95 - ECPv6.15.11//NONSGML v1.0//EN
CALSCALE:GREGORIAN
METHOD:PUBLISH
X-ORIGINAL-URL:https://ennery.fr
X-WR-CALDESC:Évènements pour Ennery 95
REFRESH-INTERVAL;VALUE=DURATION:PT1H
X-Robots-Tag:noindex
X-PUBLISHED-TTL:PT1H
BEGIN:VTIMEZONE
TZID:Europe/Paris
BEGIN:DAYLIGHT
TZOFFSETFROM:+0100
TZOFFSETTO:+0200
TZNAME:CEST
DTSTART:20230326T010000
END:DAYLIGHT
BEGIN:STANDARD
TZOFFSETFROM:+0200
TZOFFSETTO:+0100
TZNAME:CET
DTSTART:20231029T010000
END:STANDARD
BEGIN:DAYLIGHT
TZOFFSETFROM:+0100
TZOFFSETTO:+0200
TZNAME:CEST
DTSTART:20240331T010000
END:DAYLIGHT
BEGIN:STANDARD
TZOFFSETFROM:+0200
TZOFFSETTO:+0100
TZNAME:CET
DTSTART:20241027T010000
END:STANDARD
BEGIN:DAYLIGHT
TZOFFSETFROM:+0100
TZOFFSETTO:+0200
TZNAME:CEST
DTSTART:20250330T010000
END:DAYLIGHT
BEGIN:STANDARD
TZOFFSETFROM:+0200
TZOFFSETTO:+0100
TZNAME:CET
DTSTART:20251026T010000
END:STANDARD
END:VTIMEZONE
BEGIN:VEVENT
DTSTART;VALUE=DATE:20240411
DTEND;VALUE=DATE:20240412
DTSTAMP:20260425T155122
CREATED:20240410T133259Z
LAST-MODIFIED:20240411T070244Z
UID:14826-1712793600-1712879999@ennery.fr
SUMMARY:Collecte des ordures ménagères
DESCRIPTION:
URL:https://ennery.fr/event/collecte-des-ordures-menageres/
CATEGORIES:current
END:VEVENT
BEGIN:VEVENT
DTSTART;TZID=Europe/Paris:20240502T133000
DTEND;TZID=Europe/Paris:20240502T170000
DTSTAMP:20260425T155122
CREATED:20240411T070450Z
LAST-MODIFIED:20240429T225331Z
UID:14870-1714656600-1714669200@ennery.fr
SUMMARY:Randonnées en après-midi
DESCRIPTION:
URL:https://ennery.fr/event/randonnees-en-apres-midi/
LOCATION:City Stade\, rue d'une ruelle à l'autre\, Ennery
CATEGORIES:current
END:VEVENT
BEGIN:VEVENT
DTSTART;TZID=Europe/Paris:20240502T133000
DTEND;TZID=Europe/Paris:20240502T170000
DTSTAMP:20260425T155122
CREATED:20240411T070450Z
LAST-MODIFIED:20240429T225331Z
UID:14870-1714656600-1714669200@ennery.fr
SUMMARY:Randonnées en après-midi
DESCRIPTION:
URL:https://ennery.fr/event/randonnees-en-apres-midi/
LOCATION:City Stade\, rue d'une ruelle à l'autre\, Ennery
CATEGORIES:current
END:VEVENT
BEGIN:VEVENT
DTSTART;TZID=Europe/Paris:20240506T190000
DTEND;TZID=Europe/Paris:20240506T210000
DTSTAMP:20260425T155122
CREATED:20240429T223821Z
LAST-MODIFIED:20241031T212625Z
UID:14992-1715022000-1715029200@ennery.fr
SUMMARY:Chaud Time
DESCRIPTION:Téléphone : 07 45 45 45 00
URL:https://ennery.fr/event/chaud-time/
LOCATION:Place de la Mairie\, Place Athanase RENDU\, Ennery\, 95300
END:VEVENT
BEGIN:VEVENT
DTSTART;TZID=Europe/Paris:20240507T140000
DTEND;TZID=Europe/Paris:20240507T170000
DTSTAMP:20260425T155122
CREATED:20240429T225951Z
LAST-MODIFIED:20240430T080816Z
UID:15004-1715090400-1715101200@ennery.fr
SUMMARY:Bridge
DESCRIPTION:
URL:https://ennery.fr/event/bridge-tournoi-homologue/
LOCATION:Foyer Rural\, Rue Charpentier\, Ennery\, 95300\, France
END:VEVENT
BEGIN:VEVENT
DTSTART;VALUE=DATE:20240410
DTEND;VALUE=DATE:20240411
DTSTAMP:20260425T155122
CREATED:20240329T090918Z
LAST-MODIFIED:20240410T140002Z
UID:14751-1712707200-1712793599@ennery.fr
SUMMARY:Bacs jaunes
DESCRIPTION:
URL:https://ennery.fr/event/bacs-jaunes-3/
END:VEVENT
BEGIN:VEVENT
DTSTART;TZID=Europe/Paris:20240508T103000
DTEND;TZID=Europe/Paris:20240508T123000
DTSTAMP:20260425T155122
CREATED:20240429T214816Z
LAST-MODIFIED:20240429T215636Z
UID:14954-1715164200-1715171400@ennery.fr
SUMMARY:Cérémonie du 8 mai
DESCRIPTION:Cérémonie du 8 mai\n			\n				\n				\n				\n				\n				\n			\n				\n				\n				\n				\n				10 H 45  \n\nRassemblement place de la Mairie\nDéfilé au monument aux morts\nDépôt d’une gerbe\n\n11 H \n\nInauguration du minibus de la commune\nInauguration du sentier du patrimoine\nSignature de la convention avec la fondation du patrimoine pour le retour du mausolée et pour la restauration de l’église\n\nUn cocktail clôturera cette manifestation
URL:https://ennery.fr/event/14954/
LOCATION:Place de la Mairie\, Place Athanase RENDU\, Ennery\, 95300
CATEGORIES:events
END:VEVENT
BEGIN:VEVENT
DTSTART;TZID=Europe/Paris:20240507T140000
DTEND;TZID=Europe/Paris:20240507T170000
DTSTAMP:20260425T155122
CREATED:20240429T225951Z
LAST-MODIFIED:20240430T080816Z
UID:15004-1715090400-1715101200@ennery.fr
SUMMARY:Bridge
DESCRIPTION:
URL:https://ennery.fr/event/bridge-tournoi-homologue/
LOCATION:Foyer Rural\, Rue Charpentier\, Ennery\, 95300\, France
END:VEVENT
BEGIN:VEVENT
DTSTART;VALUE=DATE:20240411
DTEND;VALUE=DATE:20240412
DTSTAMP:20260425T155122
CREATED:20240410T133259Z
LAST-MODIFIED:20240411T070244Z
UID:14826-1712793600-1712879999@ennery.fr
SUMMARY:Collecte des ordures ménagères
DESCRIPTION:
URL:https://ennery.fr/event/collecte-des-ordures-menageres/
CATEGORIES:current
END:VEVENT
BEGIN:VEVENT
DTSTART;TZID=Europe/Paris:20240507T140000
DTEND;TZID=Europe/Paris:20240507T170000
DTSTAMP:20260425T155122
CREATED:20240429T225951Z
LAST-MODIFIED:20240430T080816Z
UID:15004-1715090400-1715101200@ennery.fr
SUMMARY:Bridge
DESCRIPTION:
URL:https://ennery.fr/event/bridge-tournoi-homologue/
LOCATION:Foyer Rural\, Rue Charpentier\, Ennery\, 95300\, France
END:VEVENT
BEGIN:VEVENT
DTSTART;TZID=Europe/Paris:20240512T090000
DTEND;TZID=Europe/Paris:20240512T120000
DTSTAMP:20260425T155122
CREATED:20240429T225508Z
LAST-MODIFIED:20240429T225543Z
UID:15002-1715504400-1715515200@ennery.fr
SUMMARY:Randonnées du dimanche
DESCRIPTION:
URL:https://ennery.fr/event/randonnees-du-dimanche-2/
LOCATION:Foyer Rural\, Rue Charpentier\, Ennery\, 95300\, France
CATEGORIES:current
END:VEVENT
BEGIN:VEVENT
DTSTART;TZID=Europe/Paris:20240506T190000
DTEND;TZID=Europe/Paris:20240506T210000
DTSTAMP:20260425T155122
CREATED:20240429T223821Z
LAST-MODIFIED:20241031T212625Z
UID:14992-1715022000-1715029200@ennery.fr
SUMMARY:Chaud Time
DESCRIPTION:Téléphone : 07 45 45 45 00
URL:https://ennery.fr/event/chaud-time/
LOCATION:Place de la Mairie\, Place Athanase RENDU\, Ennery\, 95300
END:VEVENT
BEGIN:VEVENT
DTSTART;TZID=Europe/Paris:20240507T140000
DTEND;TZID=Europe/Paris:20240507T170000
DTSTAMP:20260425T155122
CREATED:20240429T225951Z
LAST-MODIFIED:20240430T080816Z
UID:15004-1715090400-1715101200@ennery.fr
SUMMARY:Bridge
DESCRIPTION:
URL:https://ennery.fr/event/bridge-tournoi-homologue/
LOCATION:Foyer Rural\, Rue Charpentier\, Ennery\, 95300\, France
END:VEVENT
BEGIN:VEVENT
DTSTART;TZID=Europe/Paris:20240515T080000
DTEND;TZID=Europe/Paris:20240515T170000
DTSTAMP:20260425T155122
CREATED:20240429T224330Z
LAST-MODIFIED:20240429T224514Z
UID:14998-1715760000-1715792400@ennery.fr
SUMMARY:Pizz'à l'ancienne
DESCRIPTION:
URL:https://ennery.fr/event/pizza-lancienne/
LOCATION:Place de la Mairie\, Place Athanase RENDU\, Ennery\, 95300
END:VEVENT
BEGIN:VEVENT
DTSTART;TZID=Europe/Paris:20240507T140000
DTEND;TZID=Europe/Paris:20240507T170000
DTSTAMP:20260425T155122
CREATED:20240429T225951Z
LAST-MODIFIED:20240430T080816Z
UID:15004-1715090400-1715101200@ennery.fr
SUMMARY:Bridge
DESCRIPTION:
URL:https://ennery.fr/event/bridge-tournoi-homologue/
LOCATION:Foyer Rural\, Rue Charpentier\, Ennery\, 95300\, France
END:VEVENT
BEGIN:VEVENT
DTSTART;VALUE=DATE:20240411
DTEND;VALUE=DATE:20240412
DTSTAMP:20260425T155122
CREATED:20240410T133259Z
LAST-MODIFIED:20240411T070244Z
UID:14826-1712793600-1712879999@ennery.fr
SUMMARY:Collecte des ordures ménagères
DESCRIPTION:
URL:https://ennery.fr/event/collecte-des-ordures-menageres/
CATEGORIES:current
END:VEVENT
BEGIN:VEVENT
DTSTART;TZID=Europe/Paris:20240502T133000
DTEND;TZID=Europe/Paris:20240502T170000
DTSTAMP:20260425T155122
CREATED:20240411T070450Z
LAST-MODIFIED:20240429T225331Z
UID:14870-1714656600-1714669200@ennery.fr
SUMMARY:Randonnées en après-midi
DESCRIPTION:
URL:https://ennery.fr/event/randonnees-en-apres-midi/
LOCATION:City Stade\, rue d'une ruelle à l'autre\, Ennery
CATEGORIES:current
END:VEVENT
BEGIN:VEVENT
DTSTART;VALUE=DATE:20240419
DTEND;VALUE=DATE:20240420
DTSTAMP:20260425T155122
CREATED:20240329T091206Z
LAST-MODIFIED:20240410T142910Z
UID:14755-1713484800-1713571199@ennery.fr
SUMMARY:Bacs verts
DESCRIPTION:
URL:https://ennery.fr/event/bacs-verts/
CATEGORIES:current
END:VEVENT
BEGIN:VEVENT
DTSTART;TZID=Europe/Paris:20240507T140000
DTEND;TZID=Europe/Paris:20240507T170000
DTSTAMP:20260425T155122
CREATED:20240429T225951Z
LAST-MODIFIED:20240430T080816Z
UID:15004-1715090400-1715101200@ennery.fr
SUMMARY:Bridge
DESCRIPTION:
URL:https://ennery.fr/event/bridge-tournoi-homologue/
LOCATION:Foyer Rural\, Rue Charpentier\, Ennery\, 95300\, France
END:VEVENT
BEGIN:VEVENT
DTSTART;TZID=Europe/Paris:20240502T133000
DTEND;TZID=Europe/Paris:20240502T170000
DTSTAMP:20260425T155122
CREATED:20240411T070450Z
LAST-MODIFIED:20240429T225331Z
UID:14870-1714656600-1714669200@ennery.fr
SUMMARY:Randonnées en après-midi
DESCRIPTION:
URL:https://ennery.fr/event/randonnees-en-apres-midi/
LOCATION:City Stade\, rue d'une ruelle à l'autre\, Ennery
CATEGORIES:current
END:VEVENT
BEGIN:VEVENT
DTSTART;TZID=Europe/Paris:20240506T190000
DTEND;TZID=Europe/Paris:20240506T210000
DTSTAMP:20260425T155122
CREATED:20240429T223821Z
LAST-MODIFIED:20241031T212625Z
UID:14992-1715022000-1715029200@ennery.fr
SUMMARY:Chaud Time
DESCRIPTION:Téléphone : 07 45 45 45 00
URL:https://ennery.fr/event/chaud-time/
LOCATION:Place de la Mairie\, Place Athanase RENDU\, Ennery\, 95300
END:VEVENT
BEGIN:VEVENT
DTSTART;TZID=Europe/Paris:20240507T140000
DTEND;TZID=Europe/Paris:20240507T170000
DTSTAMP:20260425T155122
CREATED:20240429T225951Z
LAST-MODIFIED:20240430T080816Z
UID:15004-1715090400-1715101200@ennery.fr
SUMMARY:Bridge
DESCRIPTION:
URL:https://ennery.fr/event/bridge-tournoi-homologue/
LOCATION:Foyer Rural\, Rue Charpentier\, Ennery\, 95300\, France
END:VEVENT
BEGIN:VEVENT
DTSTART;VALUE=DATE:20240410
DTEND;VALUE=DATE:20240411
DTSTAMP:20260425T155122
CREATED:20240329T090918Z
LAST-MODIFIED:20240410T140002Z
UID:14751-1712707200-1712793599@ennery.fr
SUMMARY:Bacs jaunes
DESCRIPTION:
URL:https://ennery.fr/event/bacs-jaunes-3/
END:VEVENT
BEGIN:VEVENT
DTSTART;TZID=Europe/Paris:20240515T080000
DTEND;TZID=Europe/Paris:20240515T170000
DTSTAMP:20260425T155122
CREATED:20240429T224330Z
LAST-MODIFIED:20240429T224514Z
UID:14998-1715760000-1715792400@ennery.fr
SUMMARY:Pizz'à l'ancienne
DESCRIPTION:
URL:https://ennery.fr/event/pizza-lancienne/
LOCATION:Place de la Mairie\, Place Athanase RENDU\, Ennery\, 95300
END:VEVENT
BEGIN:VEVENT
DTSTART;TZID=Europe/Paris:20240507T140000
DTEND;TZID=Europe/Paris:20240507T170000
DTSTAMP:20260425T155122
CREATED:20240429T225951Z
LAST-MODIFIED:20240430T080816Z
UID:15004-1715090400-1715101200@ennery.fr
SUMMARY:Bridge
DESCRIPTION:
URL:https://ennery.fr/event/bridge-tournoi-homologue/
LOCATION:Foyer Rural\, Rue Charpentier\, Ennery\, 95300\, France
END:VEVENT
BEGIN:VEVENT
DTSTART;VALUE=DATE:20240411
DTEND;VALUE=DATE:20240412
DTSTAMP:20260425T155122
CREATED:20240410T133259Z
LAST-MODIFIED:20240411T070244Z
UID:14826-1712793600-1712879999@ennery.fr
SUMMARY:Collecte des ordures ménagères
DESCRIPTION:
URL:https://ennery.fr/event/collecte-des-ordures-menageres/
CATEGORIES:current
END:VEVENT
BEGIN:VEVENT
DTSTART;TZID=Europe/Paris:20240523T203000
DTEND;TZID=Europe/Paris:20240523T213000
DTSTAMP:20260425T155122
CREATED:20240429T222931Z
LAST-MODIFIED:20240429T222934Z
UID:14986-1716496200-1716499800@ennery.fr
SUMMARY:Bobine d’Ennery – Le combat dans l'île (1962)
DESCRIPTION:Prochain rendez-vous le jeudi 23 mai à 20h45 \nLe combat dans l’île (1962) \nFilm de Alain Cavalier avec Jean-Louis Trintignant\, Romy Schneider et Henri Serre. \n			\n				\n				\n				\n				\n				\n			\n				\n				\n				\n				\n				Clément\, membre d’une organisation politique secrète\, participe à un meurtre avec Serge le chef du groupe. Traqué\, il doit fuir. Il se réfugie chez Paul\, un ami d’enfance à qui il confie Anne\, sa jeune femme. Clément apprend que Serge l’a bafoué et a trahi la cause. Il jure de se venger et de l’éliminer. \nhttps://www.youtube.com/watch?v=3dPwJNuvxzQ \nhttps://www.la-bobine-d-ennery.fr/
URL:https://ennery.fr/event/bobine-dennery-le-combat-dans-lile-1962/
LOCATION:Salle de la Mairie\, Place Athanase RENDU\, Ennery\, 95300
CATEGORIES:events
ATTACH;FMTTYPE=image/jpeg:https://ennery.fr/wp-content/uploads/2024/04/202405-la-Bobine.jpg
END:VEVENT
BEGIN:VEVENT
DTSTART;TZID=Europe/Paris:20240507T140000
DTEND;TZID=Europe/Paris:20240507T170000
DTSTAMP:20260425T155122
CREATED:20240429T225951Z
LAST-MODIFIED:20240430T080816Z
UID:15004-1715090400-1715101200@ennery.fr
SUMMARY:Bridge
DESCRIPTION:
URL:https://ennery.fr/event/bridge-tournoi-homologue/
LOCATION:Foyer Rural\, Rue Charpentier\, Ennery\, 95300\, France
END:VEVENT
BEGIN:VEVENT
DTSTART;TZID=Europe/Paris:20240525T100000
DTEND;TZID=Europe/Paris:20240525T120000
DTSTAMP:20260425T155122
CREATED:20240329T100927Z
LAST-MODIFIED:20240429T221841Z
UID:14771-1716631200-1716638400@ennery.fr
SUMMARY:Carnaval
DESCRIPTION:Carnaval de l’AOJE\n			\n				\n				\n				\n				\n				\n			\n				\n				\n				\n				\n				Carnaval de l’AOJE le Samedi 25 MAI 2024 dans les rue d’Ennery avec la fanfare Ch’ti (Les MabuseBand) \nCette année\, le carnaval fête ses 10 ans 🎂 !  \nDépart de l’AOJE à 10h pour une arrivée vers 12h à l’école d’Ennery où nous attend un verre de l’amitié !
URL:https://ennery.fr/event/carnaval/
LOCATION:AOJE\, Rue d'une ruelle à l'autre\, Ennery\, 95300
CATEGORIES:events
ATTACH;FMTTYPE=image/png:https://ennery.fr/wp-content/uploads/2024/04/202405-carnaval.png
END:VEVENT
BEGIN:VEVENT
DTSTART;TZID=Europe/Paris:20240526T070000
DTEND;TZID=Europe/Paris:20240526T170000
DTSTAMP:20260425T155122
CREATED:20240408T194526Z
LAST-MODIFIED:20240429T220355Z
UID:14808-1716706800-1716742800@ennery.fr
SUMMARY:Brocante d'Ennery
DESCRIPTION:Brocante d’Ennery\n \nLa brocante d’Ennery aura lieu le dimanche 26 mai 2024.\n			\n				\n				\n				\n				\n				\n			\n				\n				\n				\n				\n				Les inscriptions sont ouvertes. \nPour tous renseignements\, appeler au 09 82 12 49 78.Attention ce répondeur ne prend aucun message. \nPièces à fournir et à déposer 19 rue de la Croix :● la copie recto/verso de la carte d’identité\,● un chèque de 12€ pour 2m non divisibles\, à l’ordre des Amis d’Ennery\,● une enveloppe timbrée pour le retour de l’inscription (même pour les personnes habitant Ennery). \nClôture des inscriptions le 17 mai. \nRestauration sur place. \nL’association des Amis d’Ennery se réserve l’exclusivité des ventes alimentaires et de boissons. \nAfin de permettre l’installation des barnums\, merci de ne laisser aucun véhicule stationné rue Charpentier devant le foyer rural et l’école dès samedi 25 mai 9h. \nDimanche 26 mai : aucun stationnement n’est autorisé dans les rues où sont installés les exposants. \nMerci de votre compréhension.
URL:https://ennery.fr/event/brocante-dennery/
LOCATION:Foyer Rural\, Rue Charpentier\, Ennery\, 95300\, France
CATEGORIES:events
ATTACH;FMTTYPE=image/jpeg:https://ennery.fr/wp-content/uploads/2024/04/Brocante.jpg
END:VEVENT
END:VCALENDAR